BEGIN:VCALENDAR
VERSION:2.0
PRODID:-//pretix//pretix.eu//
BEGIN:VTIMEZONE
TZID:Europe/Berlin
BEGIN:STANDARD
DTSTART:20001029T040000
RRULE:FREQ=YEARLY;BYDAY=-1SU;BYMONTH=10
TZNAME:CET
TZOFFSETFROM:+0200
TZOFFSETTO:+0100
END:STANDARD
BEGIN:DAYLIGHT
DTSTART:20000326T030000
RRULE:FREQ=YEARLY;BYDAY=-1SU;BYMONTH=3
TZNAME:CEST
TZOFFSETFROM:+0100
TZOFFSETTO:+0200
END:DAYLIGHT
END:VTIMEZONE
BEGIN:VEVENT
UID:pretix-9eSec-osf-hackathon-0@pretix.eu
DTSTART;TZID=Europe/Berlin:20190603T090000
DTEND;TZID=Europe/Berlin:20190608T060000
DESCRIPTION:Tickets: https://pretix.eu/9eSec/osf-hackathon/\nOrganizer: 9el
 ements GmbH Cyber Security Division
DTSTAMP:20260422T073827Z
LOCATION:Das-Labor e.V.\, Allestrasse 50\, 44791 Bochum\, Germany
SUMMARY:Open Source Firmware Hackathon
END:VEVENT
END:VCALENDAR
