BEGIN:VCALENDAR
VERSION:2.0
PRODID:-//pretix//pretix.eu//
BEGIN:VEVENT
UID:pretix-9eSec-osfc2022-0@pretix.eu
DTSTART;VALUE=DATE:20220919
DTEND;VALUE=DATE:20220922
DESCRIPTION:Tickets: https://pretix.eu/9eSec/osfc2022/\nAdmission: 2022-09-
 19 09:00\nOrganizer: 9elements GmbH Cyber Security Division
DTSTAMP:20260420T032255Z
LOCATION:Quality Hotel The Weaver\, Göteborgsvägen 91\, 431 37\, Mölndal
 \, Sweden
SUMMARY:Open-Source Firmware Conference 2022
END:VEVENT
END:VCALENDAR
