BEGIN:VCALENDAR
VERSION:2.0
PRODID:-//pretix//pretix.eu//
BEGIN:VTIMEZONE
TZID:Europe/Berlin
BEGIN:STANDARD
DTSTART:20001029T040000
RRULE:FREQ=YEARLY;BYDAY=-1SU;BYMONTH=10
TZNAME:CET
TZOFFSETFROM:+0200
TZOFFSETTO:+0100
END:STANDARD
BEGIN:DAYLIGHT
DTSTART:20000326T030000
RRULE:FREQ=YEARLY;BYDAY=-1SU;BYMONTH=3
TZNAME:CEST
TZOFFSETFROM:+0100
TZOFFSETTO:+0200
END:DAYLIGHT
END:VTIMEZONE
BEGIN:VEVENT
UID:pretix-ALBABerlin-sportdigital-7-0@pretix.eu
DTSTART;TZID=Europe/Berlin:20220902T160000
DTEND;TZID=Europe/Berlin:20220903T180000
DESCRIPTION:Tickets: https://pretix.eu/ALBABerlin/sportdigital-7/\nVeransta
 lter: ALBA BERLIN | SPORT VERNETZT
DTSTAMP:20260423T191748Z
LOCATION:Freitag: OSPA-Arena Rostock\, Tschaikowskistraße 45\, 18069 Rosto
 ck\, Samstag: Sporthalle Groß Klein\, Gerüstbauerring 27\, 18109 Rostock
SUMMARY:Sport digital im Quartier: Präsenz-Fortbildung mit ALBA BERLIN in 
 Rostock
END:VEVENT
END:VCALENDAR
