BEGIN:VCALENDAR
VERSION:2.0
PRODID:-//pretix//pretix.eu//
BEGIN:VTIMEZONE
TZID:Europe/Berlin
BEGIN:STANDARD
DTSTART:20001029T040000
RRULE:FREQ=YEARLY;BYDAY=-1SU;BYMONTH=10
TZNAME:CET
TZOFFSETFROM:+0200
TZOFFSETTO:+0100
END:STANDARD
BEGIN:DAYLIGHT
DTSTART:20000326T030000
RRULE:FREQ=YEARLY;BYDAY=-1SU;BYMONTH=3
TZNAME:CEST
TZOFFSETFROM:+0100
TZOFFSETTO:+0200
END:DAYLIGHT
END:VTIMEZONE
BEGIN:VEVENT
UID:pretix-AStA-HSRM-studidinner26-0@pretix.eu
DTSTART;TZID=Europe/Berlin:20260504T193000
DTEND;TZID=Europe/Berlin:20260504T203000
DESCRIPTION:Tickets: https://pretix.eu/AStA-HSRM/studidinner26/\nEinlass: 0
 4.05.2026 19:15\nVeranstalter: AStA Hochschule RheinMain
DTSTAMP:20260423T094046Z
LOCATION:Mensa\, Am Brückweg 26\, 65428 Rüsselsheim
SUMMARY:Studidinner SoSe 2026
END:VEVENT
END:VCALENDAR
