BEGIN:VCALENDAR
VERSION:2.0
PRODID:-//pretix//pretix.eu//
BEGIN:VTIMEZONE
TZID:Europe/Berlin
BEGIN:STANDARD
DTSTART:20001029T040000
RRULE:FREQ=YEARLY;BYDAY=-1SU;BYMONTH=10
TZNAME:CET
TZOFFSETFROM:+0200
TZOFFSETTO:+0100
END:STANDARD
BEGIN:DAYLIGHT
DTSTART:20000326T030000
RRULE:FREQ=YEARLY;BYDAY=-1SU;BYMONTH=3
TZNAME:CEST
TZOFFSETFROM:+0100
TZOFFSETTO:+0200
END:DAYLIGHT
END:VTIMEZONE
BEGIN:VEVENT
UID:pretix-BAAR-GER-NL-0@pretix.eu
DTSTART;TZID=Europe/Berlin:20240902T150000
DTEND;TZID=Europe/Berlin:20240902T163000
DESCRIPTION:Tickets: https://pretix.eu/BAAR/GER-NL/\nEinlass: 02.09.2024 15
 :00\nVeranstalter: Business Angels Agentur Ruhr e.V.
DTSTAMP:20260424T003228Z
LOCATION:online via Zoom
SUMMARY:German-Netherland Green Chemistry and Circularity meeting for inves
 tors and entrepreneurs
END:VEVENT
END:VCALENDAR
