BEGIN:VCALENDAR
VERSION:2.0
PRODID:-//pretix//pretix.eu//
BEGIN:VTIMEZONE
TZID:Europe/Berlin
BEGIN:STANDARD
DTSTART:20001029T040000
RRULE:FREQ=YEARLY;BYDAY=-1SU;BYMONTH=10
TZNAME:CET
TZOFFSETFROM:+0200
TZOFFSETTO:+0100
END:STANDARD
BEGIN:DAYLIGHT
DTSTART:20000326T030000
RRULE:FREQ=YEARLY;BYDAY=-1SU;BYMONTH=3
TZNAME:CEST
TZOFFSETFROM:+0100
TZOFFSETTO:+0200
END:DAYLIGHT
END:VTIMEZONE
BEGIN:VEVENT
UID:pretix-BENGE-benge-4836844@pretix.eu
DTSTART;TZID=Europe/Berlin:20260604T170000
DTEND;TZID=Europe/Berlin:20260604T230000
DESCRIPTION:Tickets: https://pretix.eu/BENGE/benge/4836844/\nEinlass: 04.06
 .2026 17:00\nVeranstalter: Nguimba und Nguimba GbR
DTSTAMP:20260421T061415Z
LOCATION:ACUD MACHT NEU\, Veteranenstraße 21\, 10119 Berlin\, Deutschland
SUMMARY:BENGE
END:VEVENT
END:VCALENDAR
