BEGIN:VCALENDAR
VERSION:2.0
PRODID:-//pretix//pretix.eu//
BEGIN:VTIMEZONE
TZID:Europe/Berlin
BEGIN:STANDARD
DTSTART:20001029T040000
RRULE:FREQ=YEARLY;BYDAY=-1SU;BYMONTH=10
TZNAME:CET
TZOFFSETFROM:+0200
TZOFFSETTO:+0100
END:STANDARD
BEGIN:DAYLIGHT
DTSTART:20000326T030000
RRULE:FREQ=YEARLY;BYDAY=-1SU;BYMONTH=3
TZNAME:CEST
TZOFFSETFROM:+0100
TZOFFSETTO:+0200
END:DAYLIGHT
END:VTIMEZONE
BEGIN:VEVENT
UID:pretix-BERIT-B04-0@pretix.eu
DTSTART;TZID=Europe/Berlin:20260227T100000
DTEND;TZID=Europe/Berlin:20260227T130000
DESCRIPTION:Tickets: https://pretix.eu/BERIT/B04/\nVeranstalter: tech-teach
 ers e.V.
DTSTAMP:20260420T172900Z
LOCATION:Präsenz-Vortrag
SUMMARY:Python & Softwareentwicklung - Praxisnaher Einstieg in Softwareentw
 icklung & Coding
END:VEVENT
END:VCALENDAR
