BEGIN:VCALENDAR
VERSION:2.0
PRODID:-//pretix//pretix.eu//
BEGIN:VTIMEZONE
TZID:Europe/Berlin
BEGIN:STANDARD
DTSTART:20001029T040000
RRULE:FREQ=YEARLY;BYDAY=-1SU;BYMONTH=10
TZNAME:CET
TZOFFSETFROM:+0200
TZOFFSETTO:+0100
END:STANDARD
BEGIN:DAYLIGHT
DTSTART:20000326T030000
RRULE:FREQ=YEARLY;BYDAY=-1SU;BYMONTH=3
TZNAME:CEST
TZOFFSETFROM:+0100
TZOFFSETTO:+0200
END:DAYLIGHT
END:VTIMEZONE
BEGIN:VEVENT
UID:pretix-BERIT-WEB10-02-4662211@pretix.eu
DTSTART;TZID=Europe/Berlin:20251028T150000
DTEND;TZID=Europe/Berlin:20251028T153000
DESCRIPTION:Tickets: https://pretix.eu/BERIT/WEB10-02/4662211/\nVeranstalte
 r: tech-teachers e.V.
DTSTAMP:20260420T033638Z
LOCATION:Online-Coaching
SUMMARY:WordPress-Werkstatt Oktober
END:VEVENT
END:VCALENDAR
