BEGIN:VCALENDAR
VERSION:2.0
PRODID:-//pretix//pretix.eu//
BEGIN:VTIMEZONE
TZID:Europe/Berlin
BEGIN:STANDARD
DTSTART:20001029T040000
RRULE:FREQ=YEARLY;BYDAY=-1SU;BYMONTH=10
TZNAME:CET
TZOFFSETFROM:+0200
TZOFFSETTO:+0100
END:STANDARD
BEGIN:DAYLIGHT
DTSTART:20000326T030000
RRULE:FREQ=YEARLY;BYDAY=-1SU;BYMONTH=3
TZNAME:CEST
TZOFFSETFROM:+0100
TZOFFSETTO:+0200
END:DAYLIGHT
END:VTIMEZONE
BEGIN:VEVENT
UID:pretix-BIOTEXFUTURE-InnoDaySpring26-0@pretix.eu
DTSTART;TZID=Europe/Berlin:20260505T093000
DTEND;TZID=Europe/Berlin:20260505T140000
DESCRIPTION:Tickets: https://pretix.eu/BIOTEXFUTURE/InnoDaySpring26/\nOrgan
 izer: BIOTEXFUTURE
DTSTAMP:20260420T103828Z
LOCATION:ITA\, Otto-Blumenthal-Straße 1\, 52074 Aachen
SUMMARY:BIOTEXFUTURE Innovation Day Spring 2026
END:VEVENT
END:VCALENDAR
