BEGIN:VCALENDAR
VERSION:2.0
PRODID:-//pretix//pretix.eu//
BEGIN:VTIMEZONE
TZID:Europe/Berlin
BEGIN:STANDARD
DTSTART:20001029T040000
RRULE:FREQ=YEARLY;BYDAY=-1SU;BYMONTH=10
TZNAME:CET
TZOFFSETFROM:+0200
TZOFFSETTO:+0100
END:STANDARD
BEGIN:DAYLIGHT
DTSTART:20000326T030000
RRULE:FREQ=YEARLY;BYDAY=-1SU;BYMONTH=3
TZNAME:CEST
TZOFFSETFROM:+0100
TZOFFSETTO:+0200
END:DAYLIGHT
END:VTIMEZONE
BEGIN:VEVENT
UID:pretix-BamuFrensdorf-FP-4866067@pretix.eu
DTSTART;TZID=Europe/Berlin:20260401T093000
DTEND;TZID=Europe/Berlin:20260401T130000
DESCRIPTION:Tickets: https://pretix.eu/BamuFrensdorf/FP/4866067/\nVeranstal
 ter: Bauernmuseum Bamberger Land
DTSTAMP:20260420T131712Z
LOCATION:Seminarraum Bauernmuseum (Zugang über den Garteneingang am Parkpl
 atz)
SUMMARY:Brotbacken – Vom Korn zum Brot
END:VEVENT
BEGIN:VEVENT
UID:pretix-BamuFrensdorf-FP-4866083@pretix.eu
DTSTART;TZID=Europe/Berlin:20260402T093000
DTEND;TZID=Europe/Berlin:20260402T120000
DESCRIPTION:Tickets: https://pretix.eu/BamuFrensdorf/FP/4866083/\nVeranstal
 ter: Bauernmuseum Bamberger Land
DTSTAMP:20260420T131712Z
LOCATION:Seminarraum Bauernmuseum (Zugang über den Garteneingang am Parkpl
 atz)
SUMMARY:Osterbackwerkstatt
END:VEVENT
BEGIN:VEVENT
UID:pretix-BamuFrensdorf-Kurse-4821028@pretix.eu
DTSTART;TZID=Europe/Berlin:20260402T140000
DTEND;TZID=Europe/Berlin:20260402T153000
DESCRIPTION:Tickets: https://pretix.eu/BamuFrensdorf/Kurse/4821028/\nVerans
 talter: Bauernmuseum Bamberger Land
DTSTAMP:20260420T131712Z
LOCATION:Bauernmuseum Bamberger Land
SUMMARY:Gartenführung: Neun Kräuter für den Gründonnerstag
END:VEVENT
BEGIN:VEVENT
UID:pretix-BamuFrensdorf-Kurse-4750288@pretix.eu
DTSTART;TZID=Europe/Berlin:20260409T180000
DTEND;TZID=Europe/Berlin:20260409T190000
DESCRIPTION:Tickets: https://pretix.eu/BamuFrensdorf/Kurse/4750288/\nVerans
 talter: Bauernmuseum Bamberger Land
DTSTAMP:20260420T131712Z
LOCATION:Bauernmuseum Bamberger Land
SUMMARY:Schafkopfkurs für Anfänger
END:VEVENT
BEGIN:VEVENT
UID:pretix-BamuFrensdorf-Kurse-4750293@pretix.eu
DTSTART;TZID=Europe/Berlin:20260410T180000
DTEND;TZID=Europe/Berlin:20260410T190000
DESCRIPTION:Tickets: https://pretix.eu/BamuFrensdorf/Kurse/4750293/\nVerans
 talter: Bauernmuseum Bamberger Land
DTSTAMP:20260420T131712Z
LOCATION:Bauernmuseum Bamberger Land
SUMMARY:Schafkopfkurs für Fortgeschrittene
END:VEVENT
BEGIN:VEVENT
UID:pretix-BamuFrensdorf-Kurse-4821029@pretix.eu
DTSTART;TZID=Europe/Berlin:20260411T150000
DTEND;TZID=Europe/Berlin:20260411T180000
DESCRIPTION:Tickets: https://pretix.eu/BamuFrensdorf/Kurse/4821029/\nVerans
 talter: Bauernmuseum Bamberger Land
DTSTAMP:20260420T131712Z
LOCATION:Bauernmuseum Bamberger Land
SUMMARY:Workshop für Erwachsene: Frühlingsfit mit Bitterstoffen
END:VEVENT
BEGIN:VEVENT
UID:pretix-BamuFrensdorf-Kurse-4821030@pretix.eu
DTSTART;TZID=Europe/Berlin:20260610T180000
DTEND;TZID=Europe/Berlin:20260610T210000
DESCRIPTION:Tickets: https://pretix.eu/BamuFrensdorf/Kurse/4821030/\nVerans
 talter: Bauernmuseum Bamberger Land
DTSTAMP:20260420T131712Z
LOCATION:Bauernmuseum Bamberger Land
SUMMARY:Naturkosmetik für Erwachsene
END:VEVENT
BEGIN:VEVENT
UID:pretix-BamuFrensdorf-VA-4737550@pretix.eu
DTSTART;TZID=Europe/Berlin:20260612T150000
DTEND;TZID=Europe/Berlin:20260612T160000
DESCRIPTION:Tickets: https://pretix.eu/BamuFrensdorf/VA/4737550/\nVeranstal
 ter: Bauernmuseum Bamberger Land
DTSTAMP:20260420T131712Z
LOCATION:Bauernmuseum Bamberger Land\, Hauptstr. 3-5\, 96158 Frensdorf\, Tr
 effpunkt: Parkplatz Hintereingang Museumsgarten
SUMMARY:Sensenmahd statt Mähroboter und Mikroplastik
END:VEVENT
BEGIN:VEVENT
UID:pretix-BamuFrensdorf-VA-4737551@pretix.eu
DTSTART;TZID=Europe/Berlin:20260613T100000
DTEND;TZID=Europe/Berlin:20260613T110000
DESCRIPTION:Tickets: https://pretix.eu/BamuFrensdorf/VA/4737551/\nVeranstal
 ter: Bauernmuseum Bamberger Land
DTSTAMP:20260420T131712Z
LOCATION:Bauernmuseum Bamberger Land\, Hauptstr. 3-5\, 96158 Frensdorf\, Tr
 effpunkt: Parkplatz Hintereingang Museumsgarten
SUMMARY:Sensenmahd statt Mähroboter und Mikroplastik
END:VEVENT
BEGIN:VEVENT
UID:pretix-BamuFrensdorf-Kurse-4749293@pretix.eu
DTSTART;TZID=Europe/Berlin:20260704T093000
DTEND;TZID=Europe/Berlin:20260704T133000
DESCRIPTION:Tickets: https://pretix.eu/BamuFrensdorf/Kurse/4749293/\nVerans
 talter: Bauernmuseum Bamberger Land
DTSTAMP:20260420T131712Z
LOCATION:Bauernmuseum Bamberger Land\, Wirtschaftsküche\, Eingang über Pa
 rkplatz
SUMMARY:Brotbacken für Erwachsene
END:VEVENT
BEGIN:VEVENT
UID:pretix-BamuFrensdorf-Kurse-4821081@pretix.eu
DTSTART;TZID=Europe/Berlin:20260710T180000
DTEND;TZID=Europe/Berlin:20260710T200000
DESCRIPTION:Tickets: https://pretix.eu/BamuFrensdorf/Kurse/4821081/\nVerans
 talter: Bauernmuseum Bamberger Land
DTSTAMP:20260420T131712Z
LOCATION:Bauernmuseum Bamberger Land
SUMMARY:Vortrag: „Ernten und Trocknen“
END:VEVENT
BEGIN:VEVENT
UID:pretix-BamuFrensdorf-Kurse-4821080@pretix.eu
DTSTART;TZID=Europe/Berlin:20260711T100000
DTEND;TZID=Europe/Berlin:20260711T150000
DESCRIPTION:Tickets: https://pretix.eu/BamuFrensdorf/Kurse/4821080/\nVerans
 talter: Bauernmuseum Bamberger Land
DTSTAMP:20260420T131712Z
LOCATION:Bauernmuseum Bamberger Land
SUMMARY:Kräuterwellnesstag im Sommer
END:VEVENT
BEGIN:VEVENT
UID:pretix-BamuFrensdorf-Kurse-4821082@pretix.eu
DTSTART;TZID=Europe/Berlin:20260717T180000
DTEND;TZID=Europe/Berlin:20260717T210000
DESCRIPTION:Tickets: https://pretix.eu/BamuFrensdorf/Kurse/4821082/\nVerans
 talter: Bauernmuseum Bamberger Land
DTSTAMP:20260420T131712Z
LOCATION:Bauernmuseum Bamberger Land
SUMMARY:Sommergetränke mit Blüten und Kräutern
END:VEVENT
BEGIN:VEVENT
UID:pretix-BamuFrensdorf-Kurse-4737565@pretix.eu
DTSTART;TZID=Europe/Berlin:20260815T140000
DTEND;TZID=Europe/Berlin:20260815T170000
DESCRIPTION:Tickets: https://pretix.eu/BamuFrensdorf/Kurse/4737565/\nVerans
 talter: Bauernmuseum Bamberger Land
DTSTAMP:20260420T131712Z
LOCATION:Bauernmuseum Bamberger Land
SUMMARY:Mariä Himmelfahrt - Kräuterführung und Würzbüschel-Binden
END:VEVENT
BEGIN:VEVENT
UID:pretix-BamuFrensdorf-Kurse-4821083@pretix.eu
DTSTART;TZID=Europe/Berlin:20260820T170000
DTEND;TZID=Europe/Berlin:20260820T190000
DESCRIPTION:Tickets: https://pretix.eu/BamuFrensdorf/Kurse/4821083/\nVerans
 talter: Bauernmuseum Bamberger Land
DTSTAMP:20260420T131712Z
LOCATION:Bauernmuseum Bamberger Land
SUMMARY:Kräuterjournaling im Museumsgarten
END:VEVENT
BEGIN:VEVENT
UID:pretix-BamuFrensdorf-Kurse-4906852@pretix.eu
DTSTART;TZID=Europe/Berlin:20261011T100000
DTEND;TZID=Europe/Berlin:20261011T180000
DESCRIPTION:Tickets: https://pretix.eu/BamuFrensdorf/Kurse/4906852/\nVerans
 talter: Bauernmuseum Bamberger Land
DTSTAMP:20260420T131712Z
LOCATION:Bauernmuseum Bamberger Land
SUMMARY:Wolle spinnen - altes Handwerk neu entdecken
END:VEVENT
END:VCALENDAR
