BEGIN:VCALENDAR
VERSION:2.0
PRODID:-//pretix//pretix.eu//
BEGIN:VTIMEZONE
TZID:Europe/Berlin
BEGIN:STANDARD
DTSTART:20001029T040000
RRULE:FREQ=YEARLY;BYDAY=-1SU;BYMONTH=10
TZNAME:CET
TZOFFSETFROM:+0200
TZOFFSETTO:+0100
END:STANDARD
BEGIN:DAYLIGHT
DTSTART:20000326T030000
RRULE:FREQ=YEARLY;BYDAY=-1SU;BYMONTH=3
TZNAME:CEST
TZOFFSETFROM:+0100
TZOFFSETTO:+0200
END:DAYLIGHT
END:VTIMEZONE
BEGIN:VEVENT
UID:pretix-BrackwederKarneval-BK-K25SA-2-0@pretix.eu
DTSTART;TZID=Europe/Berlin:20260207T150000
DTEND;TZID=Europe/Berlin:20260207T181500
DESCRIPTION:Tickets: https://pretix.eu/BrackwederKarneval/BK-K25SA-2/\nEinl
 ass: 07.02.2026 14:00\nVeranstalter: Brackweder Kulisse - Brackweder Karne
 val
DTSTAMP:20260421T164226Z
LOCATION:Aula des Brackweder Gymnasiums\, Beckumer Str. 10\, 33647 Bielefel
 d
SUMMARY:Brackweder Karneval 2026 - Samstag
END:VEVENT
END:VCALENDAR
