BEGIN:VCALENDAR
VERSION:2.0
PRODID:-//pretix//pretix.eu//
BEGIN:VTIMEZONE
TZID:Europe/Berlin
BEGIN:STANDARD
DTSTART:20001029T040000
RRULE:FREQ=YEARLY;BYDAY=-1SU;BYMONTH=10
TZNAME:CET
TZOFFSETFROM:+0200
TZOFFSETTO:+0100
END:STANDARD
BEGIN:DAYLIGHT
DTSTART:20000326T030000
RRULE:FREQ=YEARLY;BYDAY=-1SU;BYMONTH=3
TZNAME:CEST
TZOFFSETFROM:+0100
TZOFFSETTO:+0200
END:DAYLIGHT
END:VTIMEZONE
BEGIN:VEVENT
UID:pretix-Bruno-Loesche-Bibliothek-implement-0@pretix.eu
DTSTART;TZID=Europe/Berlin:20250718T193000
DTEND;TZID=Europe/Berlin:20250718T203000
DESCRIPTION:Tickets: https://pretix.eu/Bruno-Loesche-Bibliothek/implement/\
 nVeranstalter: Bruno-Lösche-Bibliothek
DTSTAMP:20260422T112452Z
LOCATION:Bruno-Lösche-Bibliothek\, Perleberger Str. 33\, 10559 Berlin
SUMMARY:Lesung aus: Die Implementation : Kommissarin Becker in Berlin / mit
  Annegret Döse
END:VEVENT
END:VCALENDAR
