BEGIN:VCALENDAR
VERSION:2.0
PRODID:-//pretix//pretix.eu//
BEGIN:VTIMEZONE
TZID:Europe/Berlin
BEGIN:STANDARD
DTSTART:20001029T040000
RRULE:FREQ=YEARLY;BYDAY=-1SU;BYMONTH=10
TZNAME:CET
TZOFFSETFROM:+0200
TZOFFSETTO:+0100
END:STANDARD
BEGIN:DAYLIGHT
DTSTART:20000326T030000
RRULE:FREQ=YEARLY;BYDAY=-1SU;BYMONTH=3
TZNAME:CEST
TZOFFSETFROM:+0100
TZOFFSETTO:+0200
END:DAYLIGHT
END:VTIMEZONE
BEGIN:VEVENT
UID:pretix-BunteBuehne-18-10-0@pretix.eu
DTSTART;TZID=Europe/Berlin:20241018T193000
DTEND;TZID=Europe/Berlin:20241018T203000
DESCRIPTION:Tickets: https://pretix.eu/BunteBuehne/18-10/\nEinlass: 18.10.2
 024 18:30\nVeranstalter: KultuRegio e. V.
DTSTAMP:20260422T195401Z
LOCATION:Bunte Bühne Lübbenau
SUMMARY:18.10. Das musste mal gesagt werden! Nachdenkliches und Humorvolles
  zweier Mimen (von und mit Sylvia Burza und Jan Schönberg)
END:VEVENT
END:VCALENDAR
