BEGIN:VCALENDAR
VERSION:2.0
PRODID:-//pretix//pretix.eu//
BEGIN:VTIMEZONE
TZID:Europe/Berlin
BEGIN:STANDARD
DTSTART:20001029T040000
RRULE:FREQ=YEARLY;BYDAY=-1SU;BYMONTH=10
TZNAME:CET
TZOFFSETFROM:+0200
TZOFFSETTO:+0100
END:STANDARD
BEGIN:DAYLIGHT
DTSTART:20000326T030000
RRULE:FREQ=YEARLY;BYDAY=-1SU;BYMONTH=3
TZNAME:CEST
TZOFFSETFROM:+0100
TZOFFSETTO:+0200
END:DAYLIGHT
END:VTIMEZONE
BEGIN:VEVENT
UID:pretix-CBGjubileum25-gcarf-0@pretix.eu
DTSTART;TZID=Europe/Berlin:20250612T140000
DTEND;TZID=Europe/Berlin:20250612T170000
DESCRIPTION:Tickets: https://pretix.eu/CBGjubileum25/gcarf/\nToegang: 12-6-
 2025 14:00\nOrganisator: CBG
DTSTAMP:20260423T094217Z
LOCATION:Prins Willem-Alexanderhof 5\, 2595 BE Den Haag
SUMMARY:GenTalkshow: Het veilige nest
END:VEVENT
END:VCALENDAR
