BEGIN:VCALENDAR
VERSION:2.0
PRODID:-//pretix//pretix.eu//
BEGIN:VTIMEZONE
TZID:Europe/Amsterdam
BEGIN:STANDARD
DTSTART:20001029T040000
RRULE:FREQ=YEARLY;BYDAY=-1SU;BYMONTH=10
TZNAME:CET
TZOFFSETFROM:+0200
TZOFFSETTO:+0100
END:STANDARD
BEGIN:DAYLIGHT
DTSTART:20000326T030000
RRULE:FREQ=YEARLY;BYDAY=-1SU;BYMONTH=3
TZNAME:CEST
TZOFFSETFROM:+0100
TZOFFSETTO:+0200
END:DAYLIGHT
END:VTIMEZONE
BEGIN:VEVENT
UID:pretix-CK-events-12mei2026-0@pretix.eu
DTSTART;TZID=Europe/Amsterdam:20260512T121500
DTEND;TZID=Europe/Amsterdam:20260512T180000
DESCRIPTION:Tickets: https://pretix.eu/CK-events/12mei2026/\nOrganisator: C
 ollectieveKracht
DTSTAMP:20260419T123407Z
LOCATION:Lindenberg Cultuurhuis
SUMMARY:Burgercollectieven en de markt: tussen botsende logica's en innovat
 ieve samenwerking
END:VEVENT
END:VCALENDAR
