BEGIN:VCALENDAR
VERSION:2.0
PRODID:-//pretix//pretix.eu//
BEGIN:VTIMEZONE
TZID:Europe/Amsterdam
BEGIN:STANDARD
DTSTART:20001029T040000
RRULE:FREQ=YEARLY;BYDAY=-1SU;BYMONTH=10
TZNAME:CET
TZOFFSETFROM:+0200
TZOFFSETTO:+0100
END:STANDARD
BEGIN:DAYLIGHT
DTSTART:20000326T030000
RRULE:FREQ=YEARLY;BYDAY=-1SU;BYMONTH=3
TZNAME:CEST
TZOFFSETFROM:+0100
TZOFFSETTO:+0200
END:DAYLIGHT
END:VTIMEZONE
BEGIN:VEVENT
UID:pretix-CK-events-8dec-0@pretix.eu
DTSTART;TZID=Europe/Amsterdam:20251208T161500
DTEND;TZID=Europe/Amsterdam:20251208T190000
DESCRIPTION:Tickets: https://pretix.eu/CK-events/8dec/\nOrganisator: Collec
 tieveKracht
DTSTAMP:20260424T085718Z
LOCATION:Erasmus Paviljoen\, Theaterzaal\, Burgemeester Oudlaan 50
SUMMARY:CollectieveKracht eindejaarsbijeenkomst: samenwerken aan onderzoek 
 met impact
END:VEVENT
END:VCALENDAR
