BEGIN:VCALENDAR
VERSION:2.0
PRODID:-//pretix//pretix.eu//
BEGIN:VTIMEZONE
TZID:Europe/Berlin
BEGIN:STANDARD
DTSTART:20001029T040000
RRULE:FREQ=YEARLY;BYDAY=-1SU;BYMONTH=10
TZNAME:CET
TZOFFSETFROM:+0200
TZOFFSETTO:+0100
END:STANDARD
BEGIN:DAYLIGHT
DTSTART:20000326T030000
RRULE:FREQ=YEARLY;BYDAY=-1SU;BYMONTH=3
TZNAME:CEST
TZOFFSETFROM:+0100
TZOFFSETTO:+0200
END:DAYLIGHT
END:VTIMEZONE
BEGIN:VEVENT
UID:pretix-CdV2020-pv-0@pretix.eu
DTSTART;TZID=Europe/Berlin:20210129T160000
DTEND;TZID=Europe/Berlin:20210129T220000
DESCRIPTION:Tickets: https://pretix.eu/CdV2020/pv/\nVeranstalter: Coding da
  Vinci Niedersachsen 2020
DTSTAMP:20260423T040107Z
LOCATION:Die Veranstaltung findet Online statt
SUMMARY:Preisverleihung Coding da Vinci Niedersachsen 2020
END:VEVENT
END:VCALENDAR
