BEGIN:VCALENDAR
VERSION:2.0
PRODID:-//pretix//pretix.eu//
BEGIN:VTIMEZONE
TZID:Europe/Berlin
BEGIN:STANDARD
DTSTART:20001029T040000
RRULE:FREQ=YEARLY;BYDAY=-1SU;BYMONTH=10
TZNAME:CET
TZOFFSETFROM:+0200
TZOFFSETTO:+0100
END:STANDARD
BEGIN:DAYLIGHT
DTSTART:20000326T030000
RRULE:FREQ=YEARLY;BYDAY=-1SU;BYMONTH=3
TZNAME:CEST
TZOFFSETFROM:+0100
TZOFFSETTO:+0200
END:DAYLIGHT
END:VTIMEZONE
BEGIN:VEVENT
UID:pretix-Co-Creation-Loft-festival-2024-0@pretix.eu
DTSTART;TZID=Europe/Berlin:20240920T150000
DTEND;TZID=Europe/Berlin:20240921T220000
DESCRIPTION:Tickets: https://pretix.eu/Co-Creation-Loft/festival-2024/\nVer
 anstalter: cocreation.loft
DTSTAMP:20260420T094205Z
LOCATION:cocreation.loft\, Schinkestraße 9\, 12047 Berlin
SUMMARY:cocreation.festival Transforming Tomorrow Together
END:VEVENT
END:VCALENDAR
