BEGIN:VCALENDAR
VERSION:2.0
PRODID:-//pretix//pretix.eu//
BEGIN:VTIMEZONE
TZID:Europe/Berlin
BEGIN:STANDARD
DTSTART:20001029T040000
RRULE:FREQ=YEARLY;BYDAY=-1SU;BYMONTH=10
TZNAME:CET
TZOFFSETFROM:+0200
TZOFFSETTO:+0100
END:STANDARD
BEGIN:DAYLIGHT
DTSTART:20000326T030000
RRULE:FREQ=YEARLY;BYDAY=-1SU;BYMONTH=3
TZNAME:CEST
TZOFFSETFROM:+0100
TZOFFSETTO:+0200
END:DAYLIGHT
END:VTIMEZONE
BEGIN:VEVENT
UID:pretix-ConDays-3mskc-0@pretix.eu
DTSTART;TZID=Europe/Berlin:20180618T140000
DTEND;TZID=Europe/Berlin:20180618T180000
DESCRIPTION:Tickets: https://pretix.eu/ConDays/3mskc/\nAdmission: 2018-06-1
 8 00:00\nOrganizer: Loovent UG (haftungsbeschränkt). (deprecated - don't 
 use anymore)
DTSTAMP:20260425T003029Z
LOCATION:Fast Lane Institute for Knowledge Transfer GmbH\, Gasstraße 4a\, 
 22761 Hamburg
SUMMARY:#CDS18 Workshop: Production-ready microservices with Go and Kuberne
 tes
END:VEVENT
END:VCALENDAR
