BEGIN:VCALENDAR
VERSION:2.0
PRODID:-//pretix//pretix.eu//
BEGIN:VTIMEZONE
TZID:Europe/Dublin
BEGIN:STANDARD
DTSTART:20000326T030000
RRULE:FREQ=YEARLY;BYDAY=-1SU;BYMONTH=3
TZNAME:IST
TZOFFSETFROM:+0000
TZOFFSETTO:+0100
END:STANDARD
BEGIN:DAYLIGHT
DTSTART:20001029T020000
RRULE:FREQ=YEARLY;BYDAY=-1SU;BYMONTH=10
TZNAME:GMT
TZOFFSETFROM:+0100
TZOFFSETTO:+0000
END:DAYLIGHT
END:VTIMEZONE
BEGIN:VEVENT
UID:pretix-CoreRuleSet-summit-2023-0@pretix.eu
DTSTART;TZID=Europe/Dublin:20230214T090000
DTEND;TZID=Europe/Dublin:20230214T220000
DESCRIPTION:Tickets: https://pretix.eu/CoreRuleSet/summit-2023/\nOrganizer:
  OWASP ModSecurity Core Rule Set
DTSTAMP:20260420T183641Z
LOCATION:Dublin Conference Center\, Liffey Hall 1\, Dublin\, Ireland
SUMMARY:OWASP CRS Community Summit
END:VEVENT
END:VCALENDAR
