BEGIN:VCALENDAR
VERSION:2.0
PRODID:-//pretix//pretix.eu//
BEGIN:VTIMEZONE
TZID:Europe/Berlin
BEGIN:STANDARD
DTSTART:20001029T040000
RRULE:FREQ=YEARLY;BYDAY=-1SU;BYMONTH=10
TZNAME:CET
TZOFFSETFROM:+0200
TZOFFSETTO:+0100
END:STANDARD
BEGIN:DAYLIGHT
DTSTART:20000326T030000
RRULE:FREQ=YEARLY;BYDAY=-1SU;BYMONTH=3
TZNAME:CEST
TZOFFSETFROM:+0100
TZOFFSETTO:+0200
END:DAYLIGHT
END:VTIMEZONE
BEGIN:VEVENT
UID:pretix-DBIB-SVLFG24Celle-0@pretix.eu
DTSTART;TZID=Europe/Berlin:20240127T093000
DTEND;TZID=Europe/Berlin:20240127T153000
DESCRIPTION:Tickets: https://pretix.eu/DBIB/SVLFG24Celle/\nEinlass: 27.01.2
 024 09:00\nVeranstalter: Deutscher Berufs und Erwerbs Imker Bund
DTSTAMP:20260424T010359Z
LOCATION:Congress Union\, Raum: 1. OG Seminarcenter\, 29221 Celle\, Deutsch
 land
SUMMARY:Die SVLFG in Frage und Antwort. Ein leistungsrechtlicher Überblick
 : Was sie leisten kann – und was nicht.
END:VEVENT
END:VCALENDAR
