BEGIN:VCALENDAR
VERSION:2.0
PRODID:-//pretix//pretix.eu//
BEGIN:VTIMEZONE
TZID:Europe/Berlin
BEGIN:STANDARD
DTSTART:20001029T040000
RRULE:FREQ=YEARLY;BYDAY=-1SU;BYMONTH=10
TZNAME:CET
TZOFFSETFROM:+0200
TZOFFSETTO:+0100
END:STANDARD
BEGIN:DAYLIGHT
DTSTART:20000326T030000
RRULE:FREQ=YEARLY;BYDAY=-1SU;BYMONTH=3
TZNAME:CEST
TZOFFSETFROM:+0100
TZOFFSETTO:+0200
END:DAYLIGHT
END:VTIMEZONE
BEGIN:VEVENT
UID:pretix-DJW-Asa.no.Kai-4808823@pretix.eu
DTSTART;TZID=Europe/Berlin:20260210T090000
DTEND;TZID=Europe/Berlin:20260210T110000
DESCRIPTION:Tickets: https://pretix.eu/DJW/Asa.no.Kai/4808823/\nOrganizer: 
 Deutsch-Japanischer Wirtschaftskreis (DJW)
DTSTAMP:20260422T235342Z
LOCATION:Taylor Wessing\, Benrather Straße 15\, 40213 Düsseldorf
SUMMARY:DJW Asa no Kai
END:VEVENT
END:VCALENDAR
