BEGIN:VCALENDAR
VERSION:2.0
PRODID:-//pretix//pretix.eu//
BEGIN:VTIMEZONE
TZID:Asia/Tokyo
BEGIN:STANDARD
DTSTART:20000101T000000
RRULE:FREQ=YEARLY;BYMONTH=1
TZNAME:JST
TZOFFSETFROM:+0900
TZOFFSETTO:+0900
END:STANDARD
END:VTIMEZONE
BEGIN:VEVENT
UID:pretix-DJW-GER.Osaka-4498248@pretix.eu
DTSTART;TZID=Asia/Tokyo:20250313T180000
DTEND;TZID=Asia/Tokyo:20250313T213000
DESCRIPTION:Tickets: https://pretix.eu/DJW/GER.Osaka/4498248/\nOrganizer: D
 eutsch-Japanischer Wirtschaftskreis (DJW)
DTSTAMP:20260425T154333Z
LOCATION:SWISSÔTEL NANKAI OSAKA\, 5-1-60 Namba Chuo-ku\, 542-0076 Osaka
SUMMARY:German Economic Roundtable
END:VEVENT
END:VCALENDAR
