BEGIN:VCALENDAR
VERSION:2.0
PRODID:-//pretix//pretix.eu//
BEGIN:VTIMEZONE
TZID:Europe/Berlin
BEGIN:STANDARD
DTSTART:20001029T040000
RRULE:FREQ=YEARLY;BYDAY=-1SU;BYMONTH=10
TZNAME:CET
TZOFFSETFROM:+0200
TZOFFSETTO:+0100
END:STANDARD
BEGIN:DAYLIGHT
DTSTART:20000326T030000
RRULE:FREQ=YEARLY;BYDAY=-1SU;BYMONTH=3
TZNAME:CEST
TZOFFSETFROM:+0100
TZOFFSETTO:+0200
END:DAYLIGHT
END:VTIMEZONE
BEGIN:VEVENT
UID:pretix-DJW-Gogo.no.Kai-4509319@pretix.eu
DTSTART;TZID=Europe/Berlin:20250606T160000
DTEND;TZID=Europe/Berlin:20250606T180000
DESCRIPTION:Tickets: https://pretix.eu/DJW/Gogo.no.Kai/4509319/\nOrganizer:
  Deutsch-Japanischer Wirtschaftskreis (DJW)
DTSTAMP:20260425T120257Z
LOCATION:Congress Center Düsseldorf\, Stockumer Kirchstrasse 61\, 40474 D
 üsseldorf
SUMMARY:DJW Gogo no Kai
END:VEVENT
END:VCALENDAR
