BEGIN:VCALENDAR
VERSION:2.0
PRODID:-//pretix//pretix.eu//
BEGIN:VTIMEZONE
TZID:Europe/Berlin
BEGIN:STANDARD
DTSTART:20001029T040000
RRULE:FREQ=YEARLY;BYDAY=-1SU;BYMONTH=10
TZNAME:CET
TZOFFSETFROM:+0200
TZOFFSETTO:+0100
END:STANDARD
BEGIN:DAYLIGHT
DTSTART:20000326T030000
RRULE:FREQ=YEARLY;BYDAY=-1SU;BYMONTH=3
TZNAME:CEST
TZOFFSETFROM:+0100
TZOFFSETTO:+0200
END:DAYLIGHT
END:VTIMEZONE
BEGIN:VEVENT
UID:pretix-DJW-Japamburg-4337832@pretix.eu
DTSTART;TZID=Europe/Berlin:20250129T180000
DTEND;TZID=Europe/Berlin:20250129T203000
DESCRIPTION:Tickets: https://pretix.eu/DJW/Japamburg/4337832/\nOrganizer: D
 eutsch-Japanischer Wirtschaftskreis (DJW)
DTSTAMP:20260421T115245Z
LOCATION:Stefan Fink Schreibgeräte & Möbel\, Billwerder Neuer Deich 72\, 
 20539 Hamburg
SUMMARY:Japamburg Within DJW
END:VEVENT
END:VCALENDAR
