BEGIN:VCALENDAR
VERSION:2.0
PRODID:-//pretix//pretix.eu//
BEGIN:VTIMEZONE
TZID:Europe/Berlin
BEGIN:STANDARD
DTSTART:20001029T040000
RRULE:FREQ=YEARLY;BYDAY=-1SU;BYMONTH=10
TZNAME:CET
TZOFFSETFROM:+0200
TZOFFSETTO:+0100
END:STANDARD
BEGIN:DAYLIGHT
DTSTART:20000326T030000
RRULE:FREQ=YEARLY;BYDAY=-1SU;BYMONTH=3
TZNAME:CEST
TZOFFSETFROM:+0100
TZOFFSETTO:+0200
END:DAYLIGHT
END:VTIMEZONE
BEGIN:VEVENT
UID:pretix-DJW-JmBB-4314038@pretix.eu
DTSTART;TZID=Europe/Berlin:20250123T180000
DTEND;TZID=Europe/Berlin:20250123T213000
DESCRIPTION:Tickets: https://pretix.eu/DJW/JmBB/4314038/\nOrganizer: Deutsc
 h-Japanischer Wirtschaftskreis (DJW)
DTSTAMP:20260425T034340Z
LOCATION:The Drivery\, Mariendorfer Damm 1\, 12099 Berlin
SUMMARY:Japan meets Berlin-Brandenburg
END:VEVENT
END:VCALENDAR
