BEGIN:VCALENDAR
VERSION:2.0
PRODID:-//pretix//pretix.eu//
BEGIN:VTIMEZONE
TZID:Europe/Berlin
BEGIN:STANDARD
DTSTART:20001029T040000
RRULE:FREQ=YEARLY;BYDAY=-1SU;BYMONTH=10
TZNAME:CET
TZOFFSETFROM:+0200
TZOFFSETTO:+0100
END:STANDARD
BEGIN:DAYLIGHT
DTSTART:20000326T030000
RRULE:FREQ=YEARLY;BYDAY=-1SU;BYMONTH=3
TZNAME:CEST
TZOFFSETFROM:+0100
TZOFFSETTO:+0200
END:DAYLIGHT
END:VTIMEZONE
BEGIN:VEVENT
UID:pretix-DJW-JmBB-4911299@pretix.eu
DTSTART;TZID=Europe/Berlin:20260417T181500
DTEND;TZID=Europe/Berlin:20260417T210000
DESCRIPTION:Tickets: https://pretix.eu/DJW/JmBB/4911299/\nOrganizer: Deutsc
 h-Japanischer Wirtschaftskreis (DJW)
DTSTAMP:20260423T025352Z
LOCATION:Internationales Handelszentrum Berlin (IHZ)\, Friedrichstraße 95\
 , Room 828\, 10117 Berlin
SUMMARY:Japan meets Berlin-Brandenburg
END:VEVENT
END:VCALENDAR
