BEGIN:VCALENDAR
VERSION:2.0
PRODID:-//pretix//pretix.eu//
BEGIN:VTIMEZONE
TZID:Asia/Tokyo
BEGIN:STANDARD
DTSTART:20000101T000000
RRULE:FREQ=YEARLY;BYMONTH=1
TZNAME:JST
TZOFFSETFROM:+0900
TZOFFSETTO:+0900
END:STANDARD
END:VTIMEZONE
BEGIN:VEVENT
UID:pretix-DJW-Smart.Meetup-4597678@pretix.eu
DTSTART;TZID=Asia/Tokyo:20250626T190000
DTEND;TZID=Asia/Tokyo:20250626T213000
DESCRIPTION:Tickets: https://pretix.eu/DJW/Smart.Meetup/4597678/\nOrganizer
 : Deutsch-Japanischer Wirtschaftskreis (DJW)
DTSTAMP:20260424T224014Z
LOCATION:DZGO Corporation (DZGO)\, Sign Company Bldg 2F\, 1-14-4 Awaza\, Ni
 shi-ku\, Osaka
SUMMARY:German-Japanese Smart Meetup
END:VEVENT
END:VCALENDAR
