BEGIN:VCALENDAR
VERSION:2.0
PRODID:-//pretix//pretix.eu//
BEGIN:VTIMEZONE
TZID:Europe/Berlin
BEGIN:STANDARD
DTSTART:20001029T040000
RRULE:FREQ=YEARLY;BYDAY=-1SU;BYMONTH=10
TZNAME:CET
TZOFFSETFROM:+0200
TZOFFSETTO:+0100
END:STANDARD
BEGIN:DAYLIGHT
DTSTART:20000326T030000
RRULE:FREQ=YEARLY;BYDAY=-1SU;BYMONTH=3
TZNAME:CEST
TZOFFSETFROM:+0100
TZOFFSETTO:+0200
END:DAYLIGHT
END:VTIMEZONE
BEGIN:VEVENT
UID:pretix-DJW-djw.mgv-4511099@pretix.eu
DTSTART;TZID=Europe/Berlin:20250611T090000
DTEND;TZID=Europe/Berlin:20250611T103000
DESCRIPTION:Tickets: https://pretix.eu/DJW/djw.mgv/4511099/\nOrganizer: Deu
 tsch-Japanischer Wirtschaftskreis (DJW)
DTSTAMP:20260425T154334Z
LOCATION:Japanisch-Deutsches Zentrum Berlin (JDZB)\, Saargemünder Straße 
 2\, 14195 Berlin
SUMMARY:DJW Members Assembly
END:VEVENT
END:VCALENDAR
