BEGIN:VCALENDAR
VERSION:2.0
PRODID:-//pretix//pretix.eu//
BEGIN:VTIMEZONE
TZID:Asia/Tokyo
BEGIN:STANDARD
DTSTART:20000101T000000
RRULE:FREQ=YEARLY;BYMONTH=1
TZNAME:JST
TZOFFSETFROM:+0900
TZOFFSETTO:+0900
END:STANDARD
END:VTIMEZONE
BEGIN:VEVENT
UID:pretix-DJW-djw.symposium.jp-4512609@pretix.eu
DTSTART;TZID=Asia/Tokyo:20250905T160000
DTEND;TZID=Asia/Tokyo:20250905T200000
DESCRIPTION:Tickets: https://pretix.eu/DJW/djw.symposium.jp/4512609/\nOrgan
 izer: Deutsch-Japanischer Wirtschaftskreis (DJW)
DTSTAMP:20260424T200017Z
LOCATION:First Members’ Office Building of the House of Representatives\,
  International Conference Room / Multipurpose Hall\, 1st Floor\, 2-2-1\, N
 agata-cho\, Chiyoda-ku\, Tokyo 100-8981\, Japan
SUMMARY:DJW Symposium Japan
END:VEVENT
END:VCALENDAR
