BEGIN:VCALENDAR
VERSION:2.0
PRODID:-//pretix//pretix.eu//
BEGIN:VTIMEZONE
TZID:Europe/Berlin
BEGIN:STANDARD
DTSTART:20001029T040000
RRULE:FREQ=YEARLY;BYDAY=-1SU;BYMONTH=10
TZNAME:CET
TZOFFSETFROM:+0200
TZOFFSETTO:+0100
END:STANDARD
BEGIN:DAYLIGHT
DTSTART:20000326T030000
RRULE:FREQ=YEARLY;BYDAY=-1SU;BYMONTH=3
TZNAME:CEST
TZOFFSETFROM:+0100
TZOFFSETTO:+0200
END:DAYLIGHT
END:VTIMEZONE
BEGIN:VTIMEZONE
TZID:Asia/Tokyo
BEGIN:STANDARD
DTSTART:20000101T000000
RRULE:FREQ=YEARLY;BYMONTH=1
TZNAME:JST
TZOFFSETFROM:+0900
TZOFFSETTO:+0900
END:STANDARD
END:VTIMEZONE
BEGIN:VEVENT
UID:pretix-DJW-Working.Group-4888450@pretix.eu
DTSTART;TZID=Europe/Berlin:20260324T120000
DTEND;TZID=Europe/Berlin:20260324T130000
DESCRIPTION:Tickets: https://pretix.eu/DJW/Working.Group/4888450/\nOrganize
 r: Deutsch-Japanischer Wirtschaftskreis (DJW)
DTSTAMP:20260422T000538Z
LOCATION:Online
SUMMARY:DJW Working Group Meeting "Sustainability"
END:VEVENT
BEGIN:VEVENT
UID:pretix-DJW-NxBW-4822161@pretix.eu
DTSTART;TZID=Europe/Berlin:20260326T173000
DTEND;TZID=Europe/Berlin:20260326T220000
DESCRIPTION:Tickets: https://pretix.eu/DJW/NxBW/4822161/\nOrganizer: Deutsc
 h-Japanischer Wirtschaftskreis (DJW)
DTSTAMP:20260422T000538Z
LOCATION:Deutsches Zentrum für Luft- und Raumfahrt e.V. (DLR)\, Pfaffenwal
 dring 38-40\, 70569 Stuttgart
SUMMARY:Nippon x Baden-Württemberg
END:VEVENT
BEGIN:VEVENT
UID:pretix-DJW-GER.Osaka-4894271@pretix.eu
DTSTART;TZID=Asia/Tokyo:20260327T180000
DTEND;TZID=Asia/Tokyo:20260327T213000
DESCRIPTION:Tickets: https://pretix.eu/DJW/GER.Osaka/4894271/\nOrganizer: D
 eutsch-Japanischer Wirtschaftskreis (DJW)
DTSTAMP:20260422T000538Z
LOCATION:SWISSÔTEL NANKAI OSAKA\, 5-1-60 Namba Chuo-ku\, 542-0076 Osaka
SUMMARY:German Economic Roundtable
END:VEVENT
BEGIN:VEVENT
UID:pretix-DJW-WIL.d.flowers-4893500@pretix.eu
DTSTART;TZID=Europe/Berlin:20260331T120000
DTEND;TZID=Europe/Berlin:20260331T130000
DESCRIPTION:Tickets: https://pretix.eu/DJW/WIL.d.flowers/4893500/\nOrganize
 r: Deutsch-Japanischer Wirtschaftskreis (DJW)
DTSTAMP:20260422T000538Z
LOCATION:Online via Zoom
SUMMARY:Work Integrated Learning (WIL) #10
END:VEVENT
BEGIN:VEVENT
UID:pretix-DJW-Working.Group-4893497@pretix.eu
DTSTART;TZID=Europe/Berlin:20260409T120000
DTEND;TZID=Europe/Berlin:20260409T130000
DESCRIPTION:Tickets: https://pretix.eu/DJW/Working.Group/4893497/\nOrganize
 r: Deutsch-Japanischer Wirtschaftskreis (DJW)
DTSTAMP:20260422T000538Z
LOCATION:Online
SUMMARY:DJW Working Group Meeting "Intercultural Management"
END:VEVENT
BEGIN:VEVENT
UID:pretix-DJW-WIL.d.flowers-4893501@pretix.eu
DTSTART;TZID=Europe/Berlin:20260409T120000
DTEND;TZID=Europe/Berlin:20260409T130000
DESCRIPTION:Tickets: https://pretix.eu/DJW/WIL.d.flowers/4893501/\nOrganize
 r: Deutsch-Japanischer Wirtschaftskreis (DJW)
DTSTAMP:20260422T000538Z
LOCATION:Online via Zoom
SUMMARY:Work Integrated Learning (WIL) #11
END:VEVENT
BEGIN:VEVENT
UID:pretix-DJW-Munichiwa-4841783@pretix.eu
DTSTART;TZID=Europe/Berlin:20260409T190000
DTEND;TZID=Europe/Berlin:20260409T220000
DESCRIPTION:Tickets: https://pretix.eu/DJW/Munichiwa/4841783/\nOrganizer: D
 eutsch-Japanischer Wirtschaftskreis (DJW)
DTSTAMP:20260422T000538Z
LOCATION:JAPATAPA TOSHIBAR\, Marschallstraße 2\, 80802 München
SUMMARY:Japanese-Bavarian Business Dialogue: Munichiwa!
END:VEVENT
BEGIN:VEVENT
UID:pretix-DJW-Japamburg-4843683@pretix.eu
DTSTART;TZID=Europe/Berlin:20260416T190000
DTEND;TZID=Europe/Berlin:20260416T220000
DESCRIPTION:Tickets: https://pretix.eu/DJW/Japamburg/4843683/\nOrganizer: D
 eutsch-Japanischer Wirtschaftskreis (DJW)
DTSTAMP:20260422T000538Z
LOCATION:Gröninger Privatbrauerei\, Willy-Brandt-Straße 47\, 20457 Hamburg
SUMMARY:Japamburg Within DJW
END:VEVENT
BEGIN:VEVENT
UID:pretix-DJW-JmBB-4911299@pretix.eu
DTSTART;TZID=Europe/Berlin:20260417T181500
DTEND;TZID=Europe/Berlin:20260417T210000
DESCRIPTION:Tickets: https://pretix.eu/DJW/JmBB/4911299/\nOrganizer: Deutsc
 h-Japanischer Wirtschaftskreis (DJW)
DTSTAMP:20260422T000538Z
LOCATION:Internationales Handelszentrum Berlin (IHZ)\, Friedrichstraße 95\
 , Room 828\, 10117 Berlin
SUMMARY:Japan meets Berlin-Brandenburg
END:VEVENT
BEGIN:VEVENT
UID:pretix-DJW-Munichiwa-4905089@pretix.eu
DTSTART;TZID=Europe/Berlin:20260507T190000
DTEND;TZID=Europe/Berlin:20260507T220000
DESCRIPTION:Tickets: https://pretix.eu/DJW/Munichiwa/4905089/\nOrganizer: D
 eutsch-Japanischer Wirtschaftskreis (DJW)
DTSTAMP:20260422T000538Z
LOCATION:JAPATAPA TOSHIBAR\, Marschallstraße 2\, 80802 München
SUMMARY:Japanese-Bavarian Business Dialogue: Munichiwa!
END:VEVENT
BEGIN:VEVENT
UID:pretix-DJW-M4M-4922446@pretix.eu
DTSTART;TZID=Europe/Berlin:20260520T110000
DTEND;TZID=Europe/Berlin:20260520T120000
DESCRIPTION:Tickets: https://pretix.eu/DJW/M4M/4922446/\nOrganizer: Deutsch
 -Japanischer Wirtschaftskreis (DJW)
DTSTAMP:20260422T000538Z
LOCATION:Online
SUMMARY:DJW Members for Members
END:VEVENT
BEGIN:VEVENT
UID:pretix-DJW-WIL.d.flowers-4893502@pretix.eu
DTSTART;TZID=Europe/Berlin:20260520T120000
DTEND;TZID=Europe/Berlin:20260520T130000
DESCRIPTION:Tickets: https://pretix.eu/DJW/WIL.d.flowers/4893502/\nOrganize
 r: Deutsch-Japanischer Wirtschaftskreis (DJW)
DTSTAMP:20260422T000538Z
LOCATION:Online via Zoom
SUMMARY:Work Integrated Learning (WIL) #12
END:VEVENT
BEGIN:VEVENT
UID:pretix-DJW-Gogo.no.Kai-4900743@pretix.eu
DTSTART;TZID=Europe/Berlin:20260529T160000
DTEND;TZID=Europe/Berlin:20260529T180000
DESCRIPTION:Tickets: https://pretix.eu/DJW/Gogo.no.Kai/4900743/\nOrganizer:
  Deutsch-Japanischer Wirtschaftskreis (DJW)
DTSTAMP:20260422T000538Z
LOCATION:Congress Center Düsseldorf\, South Congress Building\, Entrance "
 Presse"\, Room 26 on the 2nd Floor\, Stockumer Kirchstrasse 61\, 40474 Dü
 sseldorf
SUMMARY:DJW Gogo no Kai
END:VEVENT
BEGIN:VEVENT
UID:pretix-DJW-NxBW-4903883@pretix.eu
DTSTART;TZID=Europe/Berlin:20260602T173000
DTEND;TZID=Europe/Berlin:20260602T220000
DESCRIPTION:Tickets: https://pretix.eu/DJW/NxBW/4903883/\nOrganizer: Deutsc
 h-Japanischer Wirtschaftskreis (DJW)
DTSTAMP:20260422T000538Z
LOCATION:MHP Arena\, Mercedesstraße 87\, 70372 Stuttgart
SUMMARY:Nippon x Baden-Württemberg
END:VEVENT
BEGIN:VEVENT
UID:pretix-DJW-WIL.d.flowers-4916637@pretix.eu
DTSTART;TZID=Europe/Berlin:20260616T120000
DTEND;TZID=Europe/Berlin:20260616T130000
DESCRIPTION:Tickets: https://pretix.eu/DJW/WIL.d.flowers/4916637/\nOrganize
 r: Deutsch-Japanischer Wirtschaftskreis (DJW)
DTSTAMP:20260422T000538Z
LOCATION:Online via Zoom
SUMMARY:Work Integrated Learning (WIL) #13
END:VEVENT
BEGIN:VEVENT
UID:pretix-DJW-djw.symposium-4818958@pretix.eu
DTSTART;TZID=Europe/Berlin:20260624T093000
DTEND;TZID=Europe/Berlin:20260624T143000
DESCRIPTION:Tickets: https://pretix.eu/DJW/djw.symposium/4818958/\nOrganize
 r: Deutsch-Japanischer Wirtschaftskreis (DJW)
DTSTAMP:20260422T000538Z
LOCATION:Messe Düsseldorf
SUMMARY:DJW Symposium
END:VEVENT
BEGIN:VEVENT
UID:pretix-DJW-40th-Anniversary-4821607@pretix.eu
DTSTART;TZID=Europe/Berlin:20260624T170000
DTEND;TZID=Europe/Berlin:20260624T220000
DESCRIPTION:Tickets: https://pretix.eu/DJW/40th-Anniversary/4821607/\nOrgan
 izer: Deutsch-Japanischer Wirtschaftskreis (DJW)
DTSTAMP:20260422T000538Z
LOCATION:Taylor Wessing\, Benrather Straße 15\, 40213 Düsseldorf
SUMMARY:Jubiläumsfeier "40 Jahre DJW"
END:VEVENT
BEGIN:VEVENT
UID:pretix-DJW-Working.Group-4922111@pretix.eu
DTSTART;TZID=Europe/Berlin:20260625T120000
DTEND;TZID=Europe/Berlin:20260625T130000
DESCRIPTION:Tickets: https://pretix.eu/DJW/Working.Group/4922111/\nOrganize
 r: Deutsch-Japanischer Wirtschaftskreis (DJW)
DTSTAMP:20260422T000538Z
LOCATION:Online
SUMMARY:DJW Working Group Meeting "Intercultural Management"
END:VEVENT
BEGIN:VEVENT
UID:pretix-DJW-Munichiwa-4905090@pretix.eu
DTSTART;TZID=Europe/Berlin:20260709T190000
DTEND;TZID=Europe/Berlin:20260709T220000
DESCRIPTION:Tickets: https://pretix.eu/DJW/Munichiwa/4905090/\nOrganizer: D
 eutsch-Japanischer Wirtschaftskreis (DJW)
DTSTAMP:20260422T000538Z
LOCATION:JAPATAPA TOSHIBAR\, Marschallstraße 2\, 80802 München
SUMMARY:Japanese-Bavarian Business Dialogue: Munichiwa!
END:VEVENT
BEGIN:VEVENT
UID:pretix-DJW-WIL.d.flowers-4916656@pretix.eu
DTSTART;TZID=Europe/Berlin:20260715T120000
DTEND;TZID=Europe/Berlin:20260715T130000
DESCRIPTION:Tickets: https://pretix.eu/DJW/WIL.d.flowers/4916656/\nOrganize
 r: Deutsch-Japanischer Wirtschaftskreis (DJW)
DTSTAMP:20260422T000538Z
LOCATION:Online via Zoom
SUMMARY:Work Integrated Learning (WIL) #14
END:VEVENT
BEGIN:VEVENT
UID:pretix-DJW-Munichiwa-4905091@pretix.eu
DTSTART;TZID=Europe/Berlin:20260910T190000
DTEND;TZID=Europe/Berlin:20260910T220000
DESCRIPTION:Tickets: https://pretix.eu/DJW/Munichiwa/4905091/\nOrganizer: D
 eutsch-Japanischer Wirtschaftskreis (DJW)
DTSTAMP:20260422T000538Z
LOCATION:JAPATAPA TOSHIBAR\, Marschallstraße 2\, 80802 München
SUMMARY:Japanese-Bavarian Business Dialogue: Munichiwa!
END:VEVENT
BEGIN:VEVENT
UID:pretix-DJW-Yoru.no.Kai-4921482@pretix.eu
DTSTART;TZID=Europe/Berlin:20261001T170000
DTEND;TZID=Europe/Berlin:20261001T183000
DESCRIPTION:Tickets: https://pretix.eu/DJW/Yoru.no.Kai/4921482/\nOrganizer:
  Deutsch-Japanischer Wirtschaftskreis (DJW)
DTSTAMP:20260422T000538Z
LOCATION:NRW-Forum Düsseldorf\, Ehrenhof 2\, 40479 Düsseldorf
SUMMARY:DJW Yoru no Kai
END:VEVENT
END:VCALENDAR
