BEGIN:VCALENDAR
VERSION:2.0
PRODID:-//pretix//pretix.eu//
BEGIN:VTIMEZONE
TZID:Europe/Berlin
BEGIN:STANDARD
DTSTART:20001029T040000
RRULE:FREQ=YEARLY;BYDAY=-1SU;BYMONTH=10
TZNAME:CET
TZOFFSETFROM:+0200
TZOFFSETTO:+0100
END:STANDARD
BEGIN:DAYLIGHT
DTSTART:20000326T030000
RRULE:FREQ=YEARLY;BYDAY=-1SU;BYMONTH=3
TZNAME:CEST
TZOFFSETFROM:+0100
TZOFFSETTO:+0200
END:DAYLIGHT
END:VTIMEZONE
BEGIN:VEVENT
UID:pretix-DMP-auftakt-0@pretix.eu
DTSTART;TZID=Europe/Berlin:20240716T140000
DTEND;TZID=Europe/Berlin:20240716T153000
DESCRIPTION:Tickets: https://pretix.eu/DMP/auftakt/\nVeranstalter: Deutsche
 r Mobilitätspreis
DTSTAMP:20260420T052227Z
LOCATION:Berlin | Online
SUMMARY:Deutscher Mobilitätspreis 2024 | Auftaktveranstaltung
END:VEVENT
END:VCALENDAR
