BEGIN:VCALENDAR
VERSION:2.0
PRODID:-//pretix//pretix.eu//
BEGIN:VEVENT
UID:pretix-DSEE-ehkfra-0@pretix.eu
DTSTART;VALUE=DATE:20240921
DTEND;VALUE=DATE:20240922
DESCRIPTION:Tickets: https://pretix.eu/DSEE/ehkfra/\nVeranstalter: Deutsche
  Stiftung für Engagement und Ehrenamt
DTSTAMP:20260419T162342Z
SUMMARY:Erste Hilfe Kurs Sulzbach (Taunus)
END:VEVENT
END:VCALENDAR
