BEGIN:VCALENDAR
VERSION:2.0
PRODID:-//pretix//pretix.eu//
BEGIN:VEVENT
UID:pretix-DSEE-ehkham-0@pretix.eu
DTSTART;VALUE=DATE:20240928
DTEND;VALUE=DATE:20240929
DESCRIPTION:Tickets: https://pretix.eu/DSEE/ehkham/\nVeranstalter: Deutsche
  Stiftung für Engagement und Ehrenamt
DTSTAMP:20260424T114919Z
SUMMARY:Erste Hilfe Kurs Hamburg
END:VEVENT
END:VCALENDAR
