BEGIN:VCALENDAR
VERSION:2.0
PRODID:-//pretix//pretix.eu//
BEGIN:VEVENT
UID:pretix-DSEE-ehkkie-0@pretix.eu
DTSTART;VALUE=DATE:20241019
DTEND;VALUE=DATE:20241020
DESCRIPTION:Tickets: https://pretix.eu/DSEE/ehkkie/\nVeranstalter: Deutsche
  Stiftung für Engagement und Ehrenamt
DTSTAMP:20260419T162340Z
SUMMARY:Erste Hilfe Kurs Kiel
END:VEVENT
END:VCALENDAR
