BEGIN:VCALENDAR
VERSION:2.0
PRODID:-//pretix//pretix.eu//
BEGIN:VEVENT
UID:pretix-DSEE-ehksie-0@pretix.eu
DTSTART;VALUE=DATE:20240921
DTEND;VALUE=DATE:20240922
DESCRIPTION:Tickets: https://pretix.eu/DSEE/ehksie/\nVeranstalter: Deutsche
  Stiftung für Engagement und Ehrenamt
DTSTAMP:20260424T114918Z
SUMMARY:Erste Hilfe Kurs Siegburg
END:VEVENT
END:VCALENDAR
