BEGIN:VCALENDAR
VERSION:2.0
PRODID:-//pretix//pretix.eu//
BEGIN:VEVENT
UID:pretix-DSEE-ehkurm-0@pretix.eu
DTSTART;VALUE=DATE:20241012
DTEND;VALUE=DATE:20241013
DESCRIPTION:Tickets: https://pretix.eu/DSEE/ehkurm/\nVeranstalter: Deutsche
  Stiftung für Engagement und Ehrenamt
DTSTAMP:20260419T132218Z
SUMMARY:Erste Hilfe Kurs Urmitz
END:VEVENT
END:VCALENDAR
