BEGIN:VCALENDAR
VERSION:2.0
PRODID:-//pretix//pretix.eu//
BEGIN:VTIMEZONE
TZID:Europe/Berlin
BEGIN:STANDARD
DTSTART:20001029T040000
RRULE:FREQ=YEARLY;BYDAY=-1SU;BYMONTH=10
TZNAME:CET
TZOFFSETFROM:+0200
TZOFFSETTO:+0100
END:STANDARD
BEGIN:DAYLIGHT
DTSTART:20000326T030000
RRULE:FREQ=YEARLY;BYDAY=-1SU;BYMONTH=3
TZNAME:CEST
TZOFFSETFROM:+0100
TZOFFSETTO:+0200
END:DAYLIGHT
END:VTIMEZONE
BEGIN:VEVENT
UID:pretix-DSEE-ehrentag-s-1-0@pretix.eu
DTSTART;TZID=Europe/Berlin:20260225T170000
DTEND;TZID=Europe/Berlin:20260225T181500
DESCRIPTION:Tickets: https://pretix.eu/DSEE/ehrentag-s-1/\nVeranstalter: De
 utsche Stiftung für Engagement und Ehrenamt
DTSTAMP:20260423T233411Z
SUMMARY:#DSEEerklärt Ehrentag Spezial: Das passt – Die richtige Ehrentag
 s-Aktion für euren Verein
END:VEVENT
END:VCALENDAR
