BEGIN:VCALENDAR
VERSION:2.0
PRODID:-//pretix//pretix.eu//
BEGIN:VTIMEZONE
TZID:Europe/Berlin
BEGIN:STANDARD
DTSTART:20001029T040000
RRULE:FREQ=YEARLY;BYDAY=-1SU;BYMONTH=10
TZNAME:CET
TZOFFSETFROM:+0200
TZOFFSETTO:+0100
END:STANDARD
BEGIN:DAYLIGHT
DTSTART:20000326T030000
RRULE:FREQ=YEARLY;BYDAY=-1SU;BYMONTH=3
TZNAME:CEST
TZOFFSETFROM:+0100
TZOFFSETTO:+0200
END:DAYLIGHT
END:VTIMEZONE
BEGIN:VEVENT
UID:pretix-DSEE-geszusammenhalt1-0@pretix.eu
DTSTART;TZID=Europe/Berlin:20240507T170000
DTEND;TZID=Europe/Berlin:20240508T103000
DESCRIPTION:Tickets: https://pretix.eu/DSEE/geszusammenhalt1/\nVeranstalter
 : Deutsche Stiftung für Engagement und Ehrenamt
DTSTAMP:20260419T160700Z
SUMMARY:#DSEEerklärt Gesellschaftlicher Zusammenhalt Teil 1: Augen auf! De
 mokratiefeindliches Denken und Handeln erkennen und verstehen
END:VEVENT
END:VCALENDAR
