BEGIN:VCALENDAR
VERSION:2.0
PRODID:-//pretix//pretix.eu//
BEGIN:VTIMEZONE
TZID:Europe/Berlin
BEGIN:STANDARD
DTSTART:20001029T040000
RRULE:FREQ=YEARLY;BYDAY=-1SU;BYMONTH=10
TZNAME:CET
TZOFFSETFROM:+0200
TZOFFSETTO:+0100
END:STANDARD
BEGIN:DAYLIGHT
DTSTART:20000326T030000
RRULE:FREQ=YEARLY;BYDAY=-1SU;BYMONTH=3
TZNAME:CEST
TZOFFSETFROM:+0100
TZOFFSETTO:+0200
END:DAYLIGHT
END:VTIMEZONE
BEGIN:VEVENT
UID:pretix-DSEE-tDS26-3-0@pretix.eu
DTSTART;TZID=Europe/Berlin:20260618T110000
DTEND;TZID=Europe/Berlin:20260619T170000
DESCRIPTION:Tickets: https://pretix.eu/DSEE/tDS26-3/\nEinlass: 18.06.2026 0
 9:30\nVeranstalter: Deutsche Stiftung für Engagement und Ehrenamt
DTSTAMP:20260420T213548Z
LOCATION:BERLIN
SUMMARY:transform_D Summit 2026 - Anmeldung für Preisträger:innen\, Nomin
 ierte\, Förderprojekte und Preisbüros
END:VEVENT
END:VCALENDAR
