BEGIN:VCALENDAR
VERSION:2.0
PRODID:-//pretix//pretix.eu//
BEGIN:VTIMEZONE
TZID:Europe/Berlin
BEGIN:STANDARD
DTSTART:20001029T040000
RRULE:FREQ=YEARLY;BYDAY=-1SU;BYMONTH=10
TZNAME:CET
TZOFFSETFROM:+0200
TZOFFSETTO:+0100
END:STANDARD
BEGIN:DAYLIGHT
DTSTART:20000326T030000
RRULE:FREQ=YEARLY;BYDAY=-1SU;BYMONTH=3
TZNAME:CEST
TZOFFSETFROM:+0100
TZOFFSETTO:+0200
END:DAYLIGHT
END:VTIMEZONE
BEGIN:VEVENT
UID:pretix-DSEE-vereinsschule4-0@pretix.eu
DTSTART;TZID=Europe/Berlin:20250122T170000
DTEND;TZID=Europe/Berlin:20250122T181500
DESCRIPTION:Tickets: https://pretix.eu/DSEE/vereinsschule4/\nVeranstalter: 
 Deutsche Stiftung für Engagement und Ehrenamt
DTSTAMP:20260423T021204Z
SUMMARY:#DSEEerklärt Vereinsschule Teil 4: Vergiss es?! Effektives Wissens
 management rund um den Vorstandswechsel
END:VEVENT
END:VCALENDAR
