BEGIN:VCALENDAR
VERSION:2.0
PRODID:-//pretix//pretix.eu//
BEGIN:VTIMEZONE
TZID:Europe/Berlin
BEGIN:STANDARD
DTSTART:20001029T040000
RRULE:FREQ=YEARLY;BYDAY=-1SU;BYMONTH=10
TZNAME:CET
TZOFFSETFROM:+0200
TZOFFSETTO:+0100
END:STANDARD
BEGIN:DAYLIGHT
DTSTART:20000326T030000
RRULE:FREQ=YEARLY;BYDAY=-1SU;BYMONTH=3
TZNAME:CEST
TZOFFSETFROM:+0100
TZOFFSETTO:+0200
END:DAYLIGHT
END:VTIMEZONE
BEGIN:VEVENT
UID:pretix-DruckerDomain-VaGoe-0@pretix.eu
DTSTART;TZID=Europe/Berlin:20260419T150000
DTEND;TZID=Europe/Berlin:20260419T180000
DESCRIPTION:Tickets: https://pretix.eu/DruckerDomain/VaGoe/\nEinlass: 19.04
 .2026 14:00\nVeranstalter: Drucker-Domain Deutschland GmbH
DTSTAMP:20260424T085258Z
LOCATION:Synagoge haKochaw\, Buderusstr. 11\, 59427 Unna
SUMMARY:Vanessa Göcking - Die Liebe in dir
END:VEVENT
BEGIN:VEVENT
UID:pretix-DruckerDomain-LuDe-2-0@pretix.eu
DTSTART;TZID=Europe/Berlin:20260625T180000
DTEND;TZID=Europe/Berlin:20260625T200000
DESCRIPTION:Tickets: https://pretix.eu/DruckerDomain/LuDe-2/\nEinlass: 25.0
 6.2026 17:00\nVeranstalter: Drucker-Domain Deutschland GmbH
DTSTAMP:20260424T085258Z
LOCATION:Kunstkirche Warmen\, Landstraße 15\, 58730 Fröndenberg
SUMMARY:Lutz Debus\, Holger Jenrich - Hallelujha & Schalom
END:VEVENT
BEGIN:VEVENT
UID:pretix-DruckerDomain-AsPl-0@pretix.eu
DTSTART;TZID=Europe/Berlin:20260701T180000
DTEND;TZID=Europe/Berlin:20260701T210000
DESCRIPTION:Tickets: https://pretix.eu/DruckerDomain/AsPl/\nEinlass: 01.07.
 2026 17:00\nVeranstalter: Drucker-Domain Deutschland GmbH
DTSTAMP:20260424T085258Z
LOCATION:Kleingartenverein "Zum Viereck"\, Virchowstr. 22\, 59427 Unna-Mass
 en
SUMMARY:Astrid Plötner - Omma Emma und die Toten vom Schrebergarten
END:VEVENT
BEGIN:VEVENT
UID:pretix-DruckerDomain-ReSy-2-0@pretix.eu
DTSTART;TZID=Europe/Berlin:20260709T180000
DTEND;TZID=Europe/Berlin:20260709T210000
DESCRIPTION:Tickets: https://pretix.eu/DruckerDomain/ReSy-2/\nEinlass: 09.0
 7.2026 16:00\nVeranstalter: Drucker-Domain Deutschland GmbH
DTSTAMP:20260424T085258Z
LOCATION:Kunstkirche Warmen\, Landstraße 15\, 58730 Fröndenberg
SUMMARY:Rene Sydow - Lese-Show zum Roman "Die große Sehnsucht"
END:VEVENT
BEGIN:VEVENT
UID:pretix-DruckerDomain-LeSt-2-0@pretix.eu
DTSTART;TZID=Europe/Berlin:20260827T180000
DTEND;TZID=Europe/Berlin:20260827T200000
DESCRIPTION:Tickets: https://pretix.eu/DruckerDomain/LeSt-2/\nEinlass: 27.0
 8.2026 14:00\nVeranstalter: Drucker-Domain Deutschland GmbH
DTSTAMP:20260424T085258Z
LOCATION:Kunstkirche Warmen\, Landstraße 15\, 58730 Fröndenberg
SUMMARY:Leslie Sternenfeld - Mir ist komisch. Dann lach doch!
END:VEVENT
BEGIN:VEVENT
UID:pretix-DruckerDomain-MeBo-0@pretix.eu
DTSTART;TZID=Europe/Berlin:20260927T150000
DTEND;TZID=Europe/Berlin:20260927T180000
DESCRIPTION:Tickets: https://pretix.eu/DruckerDomain/MeBo/\nEinlass: 27.09.
 2026 14:00\nVeranstalter: Drucker-Domain Deutschland GmbH
DTSTAMP:20260424T085258Z
LOCATION:FHAM Campus Unna (Fachhochschule Tagungsgebäude)\, Lippestr. 7\, 
 59427 Unna-Massen
SUMMARY:Mechtild Borrman
END:VEVENT
BEGIN:VEVENT
UID:pretix-DruckerDomain-ChJa-3-0@pretix.eu
DTSTART;TZID=Europe/Berlin:20261129T150000
DTEND;TZID=Europe/Berlin:20261129T180000
DESCRIPTION:Tickets: https://pretix.eu/DruckerDomain/ChJa-3/\nEinlass: 29.1
 1.2026 14:00\nVeranstalter: Drucker-Domain Deutschland GmbH
DTSTAMP:20260424T085258Z
LOCATION:Synagoge haKochaw\, Buderusstr. 11\, 59427 Unna
SUMMARY:Christian Jaschinski - Stark und das dritte Leben
END:VEVENT
BEGIN:VEVENT
UID:pretix-DruckerDomain-JueKeh-0@pretix.eu
DTSTART;TZID=Europe/Berlin:20270117T150000
DTEND;TZID=Europe/Berlin:20270117T180000
DESCRIPTION:Tickets: https://pretix.eu/DruckerDomain/JueKeh/\nEinlass: 17.0
 1.2027 14:00\nVeranstalter: Drucker-Domain Deutschland GmbH
DTSTAMP:20260424T085258Z
LOCATION:Pfarrsaal St. Marien\, Massener Hellweg 41\, 59427 Unna
SUMMARY:Jürgen Kehrer - Heldenreise ins ewige Eis
END:VEVENT
BEGIN:VEVENT
UID:pretix-DruckerDomain-GueRue-0@pretix.eu
DTSTART;TZID=Europe/Berlin:20270314T150000
DTEND;TZID=Europe/Berlin:20270314T180000
DESCRIPTION:Tickets: https://pretix.eu/DruckerDomain/GueRue/\nEinlass: 14.0
 3.2027 14:00\nVeranstalter: Drucker-Domain Deutschland GmbH
DTSTAMP:20260424T085258Z
LOCATION:Melanchthon-Saal\, Kleistr. 8\, 59427 Unna
SUMMARY:Günter Rückert - Blagen
END:VEVENT
END:VCALENDAR
