BEGIN:VCALENDAR
VERSION:2.0
PRODID:-//pretix//pretix.eu//
BEGIN:VTIMEZONE
TZID:Europe/Berlin
BEGIN:STANDARD
DTSTART:20001029T040000
RRULE:FREQ=YEARLY;BYDAY=-1SU;BYMONTH=10
TZNAME:CET
TZOFFSETFROM:+0200
TZOFFSETTO:+0100
END:STANDARD
BEGIN:DAYLIGHT
DTSTART:20000326T030000
RRULE:FREQ=YEARLY;BYDAY=-1SU;BYMONTH=3
TZNAME:CEST
TZOFFSETFROM:+0100
TZOFFSETTO:+0200
END:DAYLIGHT
END:VTIMEZONE
BEGIN:VEVENT
UID:pretix-EAA-OS-hellmannwl-0@pretix.eu
DTSTART;TZID=Europe/Berlin:20260520T100000
DTEND;TZID=Europe/Berlin:20260520T110000
DESCRIPTION:Tickets: https://pretix.eu/EAA-OS/hellmannwl/\nVeranstalter: Ei
 nheitliche Ansprechstellen für Arbeitgeber Osnabrück
DTSTAMP:20260422T121917Z
LOCATION:online
SUMMARY:Inklusion im Unternehmen leben – Erfahrungen aus der Praxis bei H
 ellmann Worldwide Logistics
END:VEVENT
END:VCALENDAR
