BEGIN:VCALENDAR
VERSION:2.0
PRODID:-//pretix//pretix.eu//
BEGIN:VTIMEZONE
TZID:Europe/Rome
BEGIN:STANDARD
DTSTART:20001029T040000
RRULE:FREQ=YEARLY;BYDAY=-1SU;BYMONTH=10
TZNAME:CET
TZOFFSETFROM:+0200
TZOFFSETTO:+0100
END:STANDARD
BEGIN:DAYLIGHT
DTSTART:20000326T030000
RRULE:FREQ=YEARLY;BYDAY=-1SU;BYMONTH=3
TZNAME:CEST
TZOFFSETFROM:+0100
TZOFFSETTO:+0200
END:DAYLIGHT
END:VTIMEZONE
BEGIN:VEVENT
UID:pretix-EFHA-Wordings-0@pretix.eu
DTSTART;TZID=Europe/Rome:20221212T140000
DTEND;TZID=Europe/Rome:20221213T173000
DESCRIPTION:Tickets: https://pretix.eu/EFHA/Wordings/\nOrganizer: European 
 Fashion Heritage Association
DTSTAMP:20260426T040228Z
SUMMARY:EFHA International Symposium 2022: “Wordings”
END:VEVENT
END:VCALENDAR
