BEGIN:VCALENDAR
VERSION:2.0
PRODID:-//pretix//pretix.eu//
BEGIN:VEVENT
UID:pretix-EMCR-2026-4809643@pretix.eu
DTSTART;VALUE=DATE:20260704
DTEND;VALUE=DATE:20260706
DESCRIPTION:Tickets: https://pretix.eu/EMCR/2026/4809643/\nVeranstalter: Eu
 ropean Music Contest
DTSTAMP:20260421T064401Z
LOCATION:Turnierplatz Rastede\, Deutschland
SUMMARY:Zwei Tagesticket
END:VEVENT
END:VCALENDAR
