BEGIN:VCALENDAR
VERSION:2.0
PRODID:-//pretix//pretix.eu//
BEGIN:VTIMEZONE
TZID:Europe/Rome
BEGIN:STANDARD
DTSTART:20001029T040000
RRULE:FREQ=YEARLY;BYDAY=-1SU;BYMONTH=10
TZNAME:CET
TZOFFSETFROM:+0200
TZOFFSETTO:+0100
END:STANDARD
BEGIN:DAYLIGHT
DTSTART:20000326T030000
RRULE:FREQ=YEARLY;BYDAY=-1SU;BYMONTH=3
TZNAME:CEST
TZOFFSETFROM:+0100
TZOFFSETTO:+0200
END:DAYLIGHT
END:VTIMEZONE
BEGIN:VEVENT
UID:pretix-ESC-2K21-0@pretix.eu
DTSTART;TZID=Europe/Rome:20210901T170000
DTEND;TZID=Europe/Rome:20210905T140000
DESCRIPTION:Tickets: https://pretix.eu/ESC/2K21/\nOrganizer: End Summer Cam
 p
DTSTAMP:20260420T044443Z
LOCATION:Parco della Scultura in Architettura / San Dona' di Piave (Venice 
 Metropolitan City) -ITALY
SUMMARY:End Summer Camp 2K21
END:VEVENT
END:VCALENDAR
