BEGIN:VCALENDAR
VERSION:2.0
PRODID:-//pretix//pretix.eu//
BEGIN:VTIMEZONE
TZID:Europe/Berlin
BEGIN:STANDARD
DTSTART:20001029T040000
RRULE:FREQ=YEARLY;BYDAY=-1SU;BYMONTH=10
TZNAME:CET
TZOFFSETFROM:+0200
TZOFFSETTO:+0100
END:STANDARD
BEGIN:DAYLIGHT
DTSTART:20000326T030000
RRULE:FREQ=YEARLY;BYDAY=-1SU;BYMONTH=3
TZNAME:CEST
TZOFFSETFROM:+0100
TZOFFSETTO:+0200
END:DAYLIGHT
END:VTIMEZONE
BEGIN:VEVENT
UID:pretix-Endo-Tagungen-EndoSem-0@pretix.eu
DTSTART;TZID=Europe/Berlin:20240522T180000
DTEND;TZID=Europe/Berlin:20240522T200000
DESCRIPTION:Tickets: https://pretix.eu/Endo-Tagungen/EndoSem/\nEinlass: 22.
 05.2024 17:30\nVeranstalter: Praxis für Endodontie und Zahnerhaltung
DTSTAMP:20260423T021158Z
LOCATION:Dresden Dreikönigskirche
SUMMARY:Endodontie-Sommer-Seminar
END:VEVENT
END:VCALENDAR
