BEGIN:VCALENDAR
VERSION:2.0
PRODID:-//pretix//pretix.eu//
BEGIN:VTIMEZONE
TZID:Europe/Amsterdam
BEGIN:STANDARD
DTSTART:20001029T040000
RRULE:FREQ=YEARLY;BYDAY=-1SU;BYMONTH=10
TZNAME:CET
TZOFFSETFROM:+0200
TZOFFSETTO:+0100
END:STANDARD
BEGIN:DAYLIGHT
DTSTART:20000326T030000
RRULE:FREQ=YEARLY;BYDAY=-1SU;BYMONTH=3
TZNAME:CEST
TZOFFSETFROM:+0100
TZOFFSETTO:+0200
END:DAYLIGHT
END:VTIMEZONE
BEGIN:VEVENT
UID:pretix-Europeana-Foundation-Cross-Community-Workshop-on-Culture-for-AI-
 March26-0@pretix.eu
DTSTART;TZID=Europe/Amsterdam:20260424T090000
DTEND;TZID=Europe/Amsterdam:20260424T160000
DESCRIPTION:Tickets: https://pretix.eu/Europeana-Foundation/Cross-Community
 -Workshop-on-Culture-for-AI-March26/\nOrganizer: Europeana Foundation
DTSTAMP:20260420T045120Z
LOCATION:KB nationale bibliotheek
SUMMARY:Europeana Network Association Cross-Community Workshop on Culture f
 or AI
END:VEVENT
END:VCALENDAR
