BEGIN:VCALENDAR
VERSION:2.0
PRODID:-//pretix//pretix.eu//
BEGIN:VTIMEZONE
TZID:Europe/Berlin
BEGIN:STANDARD
DTSTART:20001029T040000
RRULE:FREQ=YEARLY;BYDAY=-1SU;BYMONTH=10
TZNAME:CET
TZOFFSETFROM:+0200
TZOFFSETTO:+0100
END:STANDARD
BEGIN:DAYLIGHT
DTSTART:20000326T030000
RRULE:FREQ=YEARLY;BYDAY=-1SU;BYMONTH=3
TZNAME:CEST
TZOFFSETFROM:+0100
TZOFFSETTO:+0200
END:DAYLIGHT
END:VTIMEZONE
BEGIN:VEVENT
UID:pretix-FF-Buendnis-online-kick-off-28-01-23-0@pretix.eu
DTSTART;TZID=Europe/Berlin:20230128T100000
DTEND;TZID=Europe/Berlin:20230128T170000
DESCRIPTION:Tickets: https://pretix.eu/FF-Buendnis/online-kick-off-28-01-23
 /\nVeranstalter: for Future-Bündnis
DTSTAMP:20260420T082644Z
LOCATION:Auf Zoom (wir senden euch die Einwahldaten mit der Bestätigungsma
 il zu)
SUMMARY:For Future Bündnis Online Kick-Off am 28. Januar 2023
END:VEVENT
END:VCALENDAR
