BEGIN:VCALENDAR
VERSION:2.0
PRODID:-//pretix//pretix.eu//
BEGIN:VEVENT
UID:pretix-Fachverlag-BJT25-0@pretix.eu
DTSTART;VALUE=DATE:20250925
DTEND;VALUE=DATE:20250929
DESCRIPTION:Tickets: https://pretix.eu/Fachverlag/BJT25/\nVeranstalter: Fac
 hverlag des deutschen Bestattungsgewerbes Gesellschaft mit beschränkter H
 aftung
DTSTAMP:20260420T222318Z
LOCATION:Parkhotel St. Leonhard\, Obere St.-Leonhard-Str. 71\, D-88662 Übe
 rlingen / Bodensee
SUMMARY:BestatterJuniorenTreffen 2025
END:VEVENT
END:VCALENDAR
